BEGIN:VCALENDAR
VERSION:2.0
PRODID:-//www.rouillac.com
X-WR-CALNAME:Rouillac
CALSCALE:GREGORIAN
BEGIN:VTIMEZONE
TZID:Europe/Paris
TZURL:http://tzurl.org/zoneinfo-outlook/Europe/Paris
X-LIC-LOCATION:Europe/Paris
BEGIN:DAYLIGHT
TZOFFSETFROM:+0100
TZOFFSETTO:+0200
TZNAME:CEST
DTSTART:19700329T020000
RRULE:FREQ=YEARLY;BYMONTH=3;BYDAY=-1SU
END:DAYLIGHT
BEGIN:STANDARD
TZOFFSETFROM:+0200
TZOFFSETTO:+0100
TZNAME:CET
DTSTART:19701025T030000
RRULE:FREQ=YEARLY;BYMONTH=10;BYDAY=-1SU
END:STANDARD
END:VTIMEZONE
BEGIN:VEVENT
DTSTAMP:20260423T032323Z
UID:20260423T032323Z-rouillac.com
DTSTART;TZID="Europe/Paris":20260526T100000Z
DTEND;TZID="Europe/Paris":20260526T110000Z
SUMMARY:CONFERENCE ROUILLAC - La vente Garden Party à Paris
URL:https://www.rouillac.com/snf4571
DESCRIPTION:La vente Garden Party à Paris\n\nExposition Pop Up\n\nhttps://www.rouillac.com/snf4571\n\nEntrée libre sur rendez-vous - 01 45 44 34 34\nMardi 26 mai : 15h-18h\nMercredi 27 mai : 11h–18h\nJeudi 28 mai : 10h–12h
LOCATION: Boulevard Haussmann 75009 Paris
BEGIN:VALARM
ACTION:DISPLAY
DESCRIPTION:CONFERENCE ROUILLAC - La vente Garden Party à Paris
TRIGGER:-PT15M
END:VALARM
END:VEVENT
END:VCALENDAR