BEGIN:VCALENDAR
VERSION:2.0
PRODID:-//www.rouillac.com
X-WR-CALNAME:Rouillac
CALSCALE:GREGORIAN
BEGIN:VTIMEZONE
TZID:Europe/Paris
TZURL:http://tzurl.org/zoneinfo-outlook/Europe/Paris
X-LIC-LOCATION:Europe/Paris
BEGIN:DAYLIGHT
TZOFFSETFROM:+0100
TZOFFSETTO:+0200
TZNAME:CEST
DTSTART:19700329T020000
RRULE:FREQ=YEARLY;BYMONTH=3;BYDAY=-1SU
END:DAYLIGHT
BEGIN:STANDARD
TZOFFSETFROM:+0200
TZOFFSETTO:+0100
TZNAME:CET
DTSTART:19701025T030000
RRULE:FREQ=YEARLY;BYMONTH=10;BYDAY=-1SU
END:STANDARD
END:VTIMEZONE
BEGIN:VEVENT
DTSTAMP:20260423T040352Z
UID:20260423T040352Z-rouillac.com
DTSTART;TZID="Europe/Paris":20260608T110000Z
DTEND;TZID="Europe/Paris":20260608T120000Z
SUMMARY:CONFERENCE ROUILLAC - Conférence dédicace
URL:https://www.rouillac.com/snf4568
DESCRIPTION:Conférence dédicace\n\navec Benoît Noël\n\nhttps://www.rouillac.com/snf4568\n\nConférence dédicace au Château de Villandry avec Benoît Noël, auteur avec Claude Bernès de "Marie Vassilieff L'oeuvre artistique, l'académie de peinture, la cantine de Montparnasse" à l'occasion de la vente Marie Vassilieff - L'âge d'or de Montparnasse.
LOCATION: 3, rue Principale 37510 Villandry
BEGIN:VALARM
ACTION:DISPLAY
DESCRIPTION:CONFERENCE ROUILLAC - Conférence dédicace
TRIGGER:-PT15M
END:VALARM
END:VEVENT
END:VCALENDAR