BEGIN:VCALENDAR
VERSION:2.0
PRODID:-//www.rouillac.com
X-WR-CALNAME:Rouillac
CALSCALE:GREGORIAN
BEGIN:VTIMEZONE
TZID:Europe/Paris
TZURL:http://tzurl.org/zoneinfo-outlook/Europe/Paris
X-LIC-LOCATION:Europe/Paris
BEGIN:DAYLIGHT
TZOFFSETFROM:+0100
TZOFFSETTO:+0200
TZNAME:CEST
DTSTART:19700329T020000
RRULE:FREQ=YEARLY;BYMONTH=3;BYDAY=-1SU
END:DAYLIGHT
BEGIN:STANDARD
TZOFFSETFROM:+0200
TZOFFSETTO:+0100
TZNAME:CET
DTSTART:19701025T030000
RRULE:FREQ=YEARLY;BYMONTH=10;BYDAY=-1SU
END:STANDARD
END:VTIMEZONE
BEGIN:VEVENT
DTSTAMP:20260423T120656Z
UID:20260423T120656Z-rouillac.com
DTSTART;TZID="Europe/Paris":20251014T193000Z
DTEND;TZID="Europe/Paris":20251014T203000Z
SUMMARY:CONFERENCE ROUILLAC - 120 minutes pour nos enfants
URL:https://www.rouillac.com/snf4345
DESCRIPTION:120 minutes pour nos enfants\n\n160.400 € de dons levés au profit de Planète Enfants et Développement  lors de cette soirée animée par Aymeric Rouillac avec François Saltiel\n\nhttps://www.rouillac.com/snf4345\n\n##docn8857##Participer à la soirée« 333 millions d’enfants vivent dans l’extrême pauvreté. 250 millions ne vont toujours pas à l’école. Derrière ces chiffres vertigineux, des vies, des histoires, des familles, des visages et une réalité inacceptable : des enfants privés de leur insouciance.\n\nDepuis plus de 40 ans, Planète Enfants & Développement agit aux côtés des plus vulnérables pour construire un monde plus juste, plus protecteur, plus solidaire.\n\nMais pour faire grandir nos projets, il fallait créer un lien. Une passerelle entre celles et ceux qui œuvrent sur le terrain et celles et ceux qui peuvent les soutenir. C’est ainsi qu’est née cette soirée : comme un rendez-vous annuel, une rencontre humaine, inspirante, entre engagement et générosité. En 4 ans, nous avons réuni plus de 577 000 euros grâce à votre générosité.\n\nBienvenue, et merci d’être avec nous pour imaginer ensemble un avenir plus digne pour chaque enfant. », Mylène Massé – Responsable Philanthropie
LOCATION: Siège social de Cisco France, 18-20 rue Washington, 75008, Paris
BEGIN:VALARM
ACTION:DISPLAY
DESCRIPTION:CONFERENCE ROUILLAC - 120 minutes pour nos enfants
TRIGGER:-PT15M
END:VALARM
END:VEVENT
END:VCALENDAR