BEGIN:VCALENDAR
VERSION:2.0
PRODID:-//www.rouillac.com
X-WR-CALNAME:Rouillac
CALSCALE:GREGORIAN
BEGIN:VTIMEZONE
TZID:Europe/Paris
TZURL:http://tzurl.org/zoneinfo-outlook/Europe/Paris
X-LIC-LOCATION:Europe/Paris
BEGIN:DAYLIGHT
TZOFFSETFROM:+0100
TZOFFSETTO:+0200
TZNAME:CEST
DTSTART:19700329T020000
RRULE:FREQ=YEARLY;BYMONTH=3;BYDAY=-1SU
END:DAYLIGHT
BEGIN:STANDARD
TZOFFSETFROM:+0200
TZOFFSETTO:+0100
TZNAME:CET
DTSTART:19701025T030000
RRULE:FREQ=YEARLY;BYMONTH=10;BYDAY=-1SU
END:STANDARD
END:VTIMEZONE
BEGIN:VEVENT
DTSTAMP:20260423T084837Z
UID:20260423T084837Z-rouillac.com
DTSTART;TZID="Europe/Paris":20240717T150000Z
DTEND;TZID="Europe/Paris":20240717T160000Z
SUMMARY:CONFERENCE ROUILLAC - Les peintres du moulin du Birlot
URL:https://www.rouillac.com/snf3911
DESCRIPTION:Les peintres du moulin du Birlot\n\nConférence par Philippe Rouillac\n\nhttps://www.rouillac.com/snf3911\n\nL’association du Moulin du Birlot œuvre depuis 30 ans à la restauration de ce patrimoine exceptionnel. C’est pourquoi les membres ont décidé de fêter cet événement par plusieurs rendez-vous cet été. Dans un premier temps deux conférences vont avoir lieu à la salle des fêtes :\n\nPhilippe Rouillac, commissaire priseur bien connu et ancien président de l’association, décryptera les tableaux du moulin vu par les peintres. Les artistes ont bien souvent représenté le moulin à marée de l’île.\n\nCette première conférence sera suivie le vendredi 19 juillet à 17 : 00 par une seconde : André Carsenat qui a dessiné tout le nouveau mécanisme et en a suivi tout le processus de fabrication jusqu’à la pose, expliquera sa démarche.\n\nViendra ensuite le projet phare de cet anniversaire : le spectacle joué en plein air au moulin le 9 août à 20:30, « Une histoire du moulin ». Ce spectacle, écrit et créé par Caroline Vannini et Zoé Lemonnier, sera joué par les amateurs de la troupe des Scènes de Bréhat, auxquels les comédiens volontaires qui le souhaitent pourront se mêler. Qu’ils n’hésitent pas à contacter l’association !
LOCATION: Salle des fêtes Le Bourg 22870 Île-de-Bréhat
BEGIN:VALARM
ACTION:DISPLAY
DESCRIPTION:CONFERENCE ROUILLAC - Les peintres du moulin du Birlot
TRIGGER:-PT15M
END:VALARM
END:VEVENT
END:VCALENDAR