BEGIN:VCALENDAR
VERSION:2.0
PRODID:-//www.rouillac.com
X-WR-CALNAME:Rouillac
CALSCALE:GREGORIAN
BEGIN:VTIMEZONE
TZID:Europe/Paris
TZURL:http://tzurl.org/zoneinfo-outlook/Europe/Paris
X-LIC-LOCATION:Europe/Paris
BEGIN:DAYLIGHT
TZOFFSETFROM:+0100
TZOFFSETTO:+0200
TZNAME:CEST
DTSTART:19700329T020000
RRULE:FREQ=YEARLY;BYMONTH=3;BYDAY=-1SU
END:DAYLIGHT
BEGIN:STANDARD
TZOFFSETFROM:+0200
TZOFFSETTO:+0100
TZNAME:CET
DTSTART:19701025T030000
RRULE:FREQ=YEARLY;BYMONTH=10;BYDAY=-1SU
END:STANDARD
END:VTIMEZONE
BEGIN:VEVENT
DTSTAMP:20260423T101704Z
UID:20260423T101704Z-rouillac.com
DTSTART;TZID="Europe/Paris":20240618T180000Z
DTEND;TZID="Europe/Paris":20240618T190000Z
SUMMARY:CONFERENCE ROUILLAC - La 2e Nuit du Bien Commun à Tours
URL:https://www.rouillac.com/snf3789
DESCRIPTION:La 2e Nuit du Bien Commun à Tours\n\nanimée par Émilie Tardif et Aymeric Rouillac réunit 435.700 € donnés par 800 participants finançant 100% des projets présentés !\n\nhttps://www.rouillac.com/snf3789\n\nCette soirée de levée de dons tout à fait exceptionnelle permet de découvrir et soutenir une dizaine d'associations portées par des entrepreneurs sociaux engagés sur le territoire de l’Indre-et-Loire.\n\nLa Nuit du Bien Commun est un événement qui se déploie partout en France et qui a des résultats impressionnants : depuis 7 ans, plus de 18 millions d’euros ont été levés, dans 20 villes, pour soutenir plus de 341 projets d’associations partout en France. C’est une soirée, en plus de faire découvrir des projets pépites, qui est d’une rare émotion, à l’enthousiasme communicatif !\n\nPour vous plonger dans l’ambiance de cette soirée, consultez cette courte vidéo présentant la 1ère édition de La Nuit du Bien Commun à Tours, l’année dernière : https://youtu.be/vLxWnGLsZ5k?si=U-OlpzBjGUYAAY_f \n\nPour participer, inscrivez-vous ici : http://tours.lanuitdubiencommun.com
LOCATION: Grand Théâtre 37000 Tours
BEGIN:VALARM
ACTION:DISPLAY
DESCRIPTION:CONFERENCE ROUILLAC - La 2e Nuit du Bien Commun à Tours
TRIGGER:-PT15M
END:VALARM
END:VEVENT
END:VCALENDAR