BEGIN:VCALENDAR
VERSION:2.0
PRODID:-//www.rouillac.com
X-WR-CALNAME:Rouillac
CALSCALE:GREGORIAN
BEGIN:VTIMEZONE
TZID:Europe/Paris
TZURL:http://tzurl.org/zoneinfo-outlook/Europe/Paris
X-LIC-LOCATION:Europe/Paris
BEGIN:DAYLIGHT
TZOFFSETFROM:+0100
TZOFFSETTO:+0200
TZNAME:CEST
DTSTART:19700329T020000
RRULE:FREQ=YEARLY;BYMONTH=3;BYDAY=-1SU
END:DAYLIGHT
BEGIN:STANDARD
TZOFFSETFROM:+0200
TZOFFSETTO:+0100
TZNAME:CET
DTSTART:19701025T030000
RRULE:FREQ=YEARLY;BYMONTH=10;BYDAY=-1SU
END:STANDARD
END:VTIMEZONE
BEGIN:VEVENT
DTSTAMP:20260423T132157Z
UID:20260423T132157Z-rouillac.com
DTSTART;TZID="Europe/Paris":20230719T105200Z
DTEND;TZID="Europe/Paris":20230719T115200Z
SUMMARY:CONFERENCE ROUILLAC - Le peintre Etienne Lempereur à Bréhat
URL:https://www.rouillac.com/snf3546
DESCRIPTION:Le peintre Etienne Lempereur à Bréhat\n\n\n\nhttps://www.rouillac.com/snf3546\n\nDu 20 au 31 juillet, une exposition-vente consacrée au peintre Etienne Lempereur est à découvrir à la salle des fêtes de Bréhat, à l'initiative de l'association Courants d'art. Seront présentées, aquarelles originales, cartes postales et peintures sur\ntissu.\n\nLe vernissage de l'exposition aura lieu le jeudi 20 juillet à 17h. Une conférence sur ce peintre peu connu et sur « L'art du paysage en peinture » sera animée par Philippe Rouillac, spécialiste en art et commissaire priseur, le vendredi 21 juillet à 17h (entrée libre).\n\n« Les paysages en peinture ont en commun qu'ils véhiculent émotions et impressions, il y a quelque chose qui passe...  souligne l'expert auprès de la Cour d'appel. Souvent au second plan, et effacés, ils deviennent le sujet principal de l'œuvre à partir du 17e siècle avec les scènes plus animées. Paysages réels ou imaginaires, ils ne sont jamais les mêmes, notamment quand il s'agit de bord de mer. »\n\nEtienne Lempereur est un « petit maître oublié » qui a réalisé « des aquarelles sans prétention notamment sur\ni'île de Bréhat », évoque Philippe Rouillac.\n\nGéomètre-géographe, Etienne Lempereur a séjourné l'été sur I'île durant près de 30 ans. II possédait une maison près\ndu Port clos et est décédé en 1953. On retrouve aujourd'hui plusieurs de ses œuvres dans les ventes aux enchères.\n\nAteliers d'art \n\nL'association Courants d'Art propose également des ateliers d'arts graphiques autour de l'œuvre de Lempereur, du\nlundi 24 au 28 juillet : acrylique, cartes postales, dessin et carnet de voyage et ateliers enfants avec les artistes des Courants d'Arts.\n\n■Tous les jours, du jeudi 20 au dimanche 30 juillet, de 10 h à 18 h (entrée libre). Informations, tarif et inscriptions\nsur le site : lescourantsdarts.fr - mail : lescourantsdarts.brehat@gmail.com - Facebook : les Courants d'Arts Bréhat
LOCATION: 
BEGIN:VALARM
ACTION:DISPLAY
DESCRIPTION:CONFERENCE ROUILLAC - Le peintre Etienne Lempereur à Bréhat
TRIGGER:-PT15M
END:VALARM
END:VEVENT
END:VCALENDAR