BEGIN:VCALENDAR
VERSION:2.0
PRODID:-//www.rouillac.com
X-WR-CALNAME:Rouillac
CALSCALE:GREGORIAN
BEGIN:VTIMEZONE
TZID:Europe/Paris
TZURL:http://tzurl.org/zoneinfo-outlook/Europe/Paris
X-LIC-LOCATION:Europe/Paris
BEGIN:DAYLIGHT
TZOFFSETFROM:+0100
TZOFFSETTO:+0200
TZNAME:CEST
DTSTART:19700329T020000
RRULE:FREQ=YEARLY;BYMONTH=3;BYDAY=-1SU
END:DAYLIGHT
BEGIN:STANDARD
TZOFFSETFROM:+0200
TZOFFSETTO:+0100
TZNAME:CET
DTSTART:19701025T030000
RRULE:FREQ=YEARLY;BYMONTH=10;BYDAY=-1SU
END:STANDARD
END:VTIMEZONE
BEGIN:VEVENT
DTSTAMP:20260423T071134Z
UID:20260423T071134Z-rouillac.com
DTSTART;TZID="Europe/Paris":20250404T140000Z
DTEND;TZID="Europe/Paris":20250404T150000Z
SUMMARY:VENTE ROUILLAC - ATELIER QUENAULT - LE SOUDEUR POÈTE
URL:https://www.rouillac.com/saf1000622
DESCRIPTION:ATELIER QUENAULT - LE SOUDEUR POÈTE\n\nSalle des Fêtes\nPlace Saint-Martin\n37220 Rilly-sur-Vienne\n\nhttps://www.rouillac.com/saf1000622\n\nChristian Quenault\nune vie entre l’industrie et les arts.\n\nVENTE SUR DÉSIGNATION à 14h\nSalle des Fêtes\nPlace Saint Martin - 37220 Rilly-sur-Vienne\n\nLIVE UNIQUEMENT SUR INTERENCHERES\n\nEXPOSITION PUBLIQUE\nLa Porcherie - 3, route Prézeaux - 37220 Parçay-sur-Vienne\nJeudi 3 avril de 10h à 12h et de 14h à 17h\nVendredi 4 avril de 9h30 à 12h\n\nCONTACT\nCourriel : rouillac@rouillac.com\nTél. : 02 54 80 24 24\n\nFRAIS DE VENTE 24% TTC\n\nENLÈVEMENT ET TRANSPORT DES LOTS\nLes lots sont à retirer sur place du 4 au 25 avril 2025., sur rendez-vous au 02 54 80 24 24.\nLa société BBTV, 20 Chauvin, 37120 CHAVEIGNES aura l'exclusivité du transport des lots à travers la France et les pays limitrophes. \nPour toute demande de devis, veuillez contacter\nM. Bertheau au 06 28 05 51 22 ou bb.transport.vente@gmail.com
LOCATION: Salle des Fêtes Place Saint-Martin 37220 Rilly-sur-Vienne
BEGIN:VALARM
ACTION:DISPLAY
DESCRIPTION:VENTE ROUILLAC - ATELIER QUENAULT - LE SOUDEUR POÈTE
TRIGGER:-PT15M
END:VALARM
END:VEVENT
END:VCALENDAR