BEGIN:VCALENDAR
VERSION:2.0
PRODID:-//www.rouillac.com
X-WR-CALNAME:Rouillac
CALSCALE:GREGORIAN
BEGIN:VTIMEZONE
TZID:Europe/Paris
TZURL:http://tzurl.org/zoneinfo-outlook/Europe/Paris
X-LIC-LOCATION:Europe/Paris
BEGIN:DAYLIGHT
TZOFFSETFROM:+0100
TZOFFSETTO:+0200
TZNAME:CEST
DTSTART:19700329T020000
RRULE:FREQ=YEARLY;BYMONTH=3;BYDAY=-1SU
END:DAYLIGHT
BEGIN:STANDARD
TZOFFSETFROM:+0200
TZOFFSETTO:+0100
TZNAME:CET
DTSTART:19701025T030000
RRULE:FREQ=YEARLY;BYMONTH=10;BYDAY=-1SU
END:STANDARD
END:VTIMEZONE
BEGIN:VEVENT
DTSTAMP:20260423T101702Z
UID:20260423T101702Z-rouillac.com
DTSTART;TZID="Europe/Paris":20240608T143000Z
DTEND;TZID="Europe/Paris":20240608T153000Z
SUMMARY:VENTE ROUILLAC - VOS TRÉSORS POUR NOS BLESSÉS
URL:https://www.rouillac.com/saf1000603
DESCRIPTION:VOS TRÉSORS POUR NOS BLESSÉS\n\nHôtel du Grand Commandement\n12, rue des Minimes\n37000 Tours\n\nhttps://www.rouillac.com/saf1000603\n\nVENTE CARITATIVE SANS FRAIS\nSous la présidence du général de division Jean-Marc Chatillon\n\nEXPOSITIONS PUBLIQUES\nVendredi 7 juin de 14h à 17h\nSamedi 8 juin de 14h à 14h30\n\nCONTACT\nTél.: 02 47 61 22 22\nCourriel pournosblesses@gmail.com
LOCATION: Hôtel du Grand Commandement 12, rue des Minimes 37000 Tours
BEGIN:VALARM
ACTION:DISPLAY
DESCRIPTION:VENTE ROUILLAC - VOS TRÉSORS POUR NOS BLESSÉS
TRIGGER:-PT15M
END:VALARM
END:VEVENT
END:VCALENDAR