BEGIN:VCALENDAR
VERSION:2.0
PRODID:-//www.rouillac.com
X-WR-CALNAME:Rouillac
CALSCALE:GREGORIAN
BEGIN:VTIMEZONE
TZID:Europe/Paris
TZURL:http://tzurl.org/zoneinfo-outlook/Europe/Paris
X-LIC-LOCATION:Europe/Paris
BEGIN:DAYLIGHT
TZOFFSETFROM:+0100
TZOFFSETTO:+0200
TZNAME:CEST
DTSTART:19700329T020000
RRULE:FREQ=YEARLY;BYMONTH=3;BYDAY=-1SU
END:DAYLIGHT
BEGIN:STANDARD
TZOFFSETFROM:+0200
TZOFFSETTO:+0100
TZNAME:CET
DTSTART:19701025T030000
RRULE:FREQ=YEARLY;BYMONTH=10;BYDAY=-1SU
END:STANDARD
END:VTIMEZONE
BEGIN:VEVENT
DTSTAMP:20260423T084837Z
UID:20260423T084837Z-rouillac.com
DTSTART;TZID="Europe/Paris":20231112T143000Z
DTEND;TZID="Europe/Paris":20231112T153000Z
SUMMARY:VENTE ROUILLAC - ARTS+DESIGN #7
URL:https://www.rouillac.com/saf1000581
DESCRIPTION:ARTS+DESIGN #7\n\nPalais Des Congrès de Tours\n26, boulevard Heurteloup\n37000 Tours\n\nhttps://www.rouillac.com/saf1000581\n\nLa septième édition de la vente arts+design se tient entre les murs de Jean Nouvel au Vinci à Tours, dans le cadre du salon L'art au quotidien. \n\nExposition d’une sélection d’œuvres du 24 au 26 octobre\n169, bd Hausmann 75008 Paris\nsur rendez-vous au 01 45 44 34 34\n\nExposition publiques\nvendredi 10 novembre de 15h à 18h\nsamedi 11 novembre de 10h à 20h\ndimanche 12 novembre de 10h à 12h30\n\nVisites commentées\nsamedi 11 novembre à 11h et 15h\ndimanche 12 novembre à 11h\n\nContact\nCourriel : rouillac@rouillac.com\nTél. : 02 47 61 22 22\n\nFRAIS DE VENTE 24% TTC
LOCATION: Palais Des Congrès de Tours 26, boulevard Heurteloup 37000 Tours
BEGIN:VALARM
ACTION:DISPLAY
DESCRIPTION:VENTE ROUILLAC - ARTS+DESIGN #7
TRIGGER:-PT15M
END:VALARM
END:VEVENT
END:VCALENDAR