BEGIN:VCALENDAR
VERSION:2.0
PRODID:-//www.rouillac.com
X-WR-CALNAME:Rouillac
CALSCALE:GREGORIAN
BEGIN:VTIMEZONE
TZID:Europe/Paris
TZURL:http://tzurl.org/zoneinfo-outlook/Europe/Paris
X-LIC-LOCATION:Europe/Paris
BEGIN:DAYLIGHT
TZOFFSETFROM:+0100
TZOFFSETTO:+0200
TZNAME:CEST
DTSTART:19700329T020000
RRULE:FREQ=YEARLY;BYMONTH=3;BYDAY=-1SU
END:DAYLIGHT
BEGIN:STANDARD
TZOFFSETFROM:+0200
TZOFFSETTO:+0100
TZNAME:CET
DTSTART:19701025T030000
RRULE:FREQ=YEARLY;BYMONTH=10;BYDAY=-1SU
END:STANDARD
END:VTIMEZONE
BEGIN:VEVENT
DTSTAMP:20260423T152617Z
UID:20260423T152617Z-rouillac.com
DTSTART;TZID="Europe/Paris":20220624T180000Z
DTEND;TZID="Europe/Paris":20220624T190000Z
SUMMARY:VENTE ROUILLAC - VENTE AUX ENCHÈRES d’OEUVRES D’ART POUR LES ENFANTS d’UKRAINE
URL:https://www.rouillac.com/saf1000555
DESCRIPTION:VENTE AUX ENCHÈRES d’OEUVRES D’ART POUR LES ENFANTS d’UKRAINE\n\nHôtel Consulaire\n4 bis, rue Jules Favre\n37000 Tours\n\nhttps://www.rouillac.com/saf1000555\n\nVENTE CARITATIVE\norganisée par le Département d’Indre-et-Loire et l’Association des Maires d’Indre-et-Loire, au profit des enfants d’Ukraine, par le commissaire-priseur Aymeric Rouillac.\nPrès de 70 artistes se sont mobilisés et ont fait don d’une œuvre pour cette action de solidarité, menée en faveur des enfants ukrainiens, victimes impuissantes du conflit.\n\nVENTE SANS AUCUN FRAIS NI PRIX DE RESERVE\nLes prix indiqués correspondent aux mises à prix des œuvres, qui sont offertes sans aucun prix de réserve,\nau profit des enfants d’Ukraine, versement des bénéfices à l’UNICEF et à Touraine Ukraine.\n \nEXPOSITION à l'Hôtel Consulaire de Tours\nVendredi 24 juin de 10h à 17h\n\nCONTACT\nAssociation des Maires d’Indre-et-Loire \nTél. 02 47 33 37 00\namil@wanadoo.fr
LOCATION: Hôtel Consulaire 4 bis, rue Jules Favre 37000 Tours
BEGIN:VALARM
ACTION:DISPLAY
DESCRIPTION:VENTE ROUILLAC - VENTE AUX ENCHÈRES d’OEUVRES D’ART POUR LES ENFANTS d’UKRAINE
TRIGGER:-PT15M
END:VALARM
END:VEVENT
END:VCALENDAR