BEGIN:VCALENDAR
VERSION:2.0
PRODID:-//www.rouillac.com
X-WR-CALNAME:Rouillac
CALSCALE:GREGORIAN
BEGIN:VTIMEZONE
TZID:Europe/Paris
TZURL:http://tzurl.org/zoneinfo-outlook/Europe/Paris
X-LIC-LOCATION:Europe/Paris
BEGIN:DAYLIGHT
TZOFFSETFROM:+0100
TZOFFSETTO:+0200
TZNAME:CEST
DTSTART:19700329T020000
RRULE:FREQ=YEARLY;BYMONTH=3;BYDAY=-1SU
END:DAYLIGHT
BEGIN:STANDARD
TZOFFSETFROM:+0200
TZOFFSETTO:+0100
TZNAME:CET
DTSTART:19701025T030000
RRULE:FREQ=YEARLY;BYMONTH=10;BYDAY=-1SU
END:STANDARD
END:VTIMEZONE
BEGIN:VEVENT
DTSTAMP:20260421T151206Z
UID:20260421T151206Z-rouillac.com
DTSTART;TZID="Europe/Paris":20220214T103000Z
DTEND;TZID="Europe/Paris":20220214T113000Z
SUMMARY:VENTE ROUILLAC - OR, ARGENTERIE & ARTS DE LA TABLE
URL:https://www.rouillac.com/saf1000542
DESCRIPTION:OR, ARGENTERIE & ARTS DE LA TABLE\n\nHôtel de l'Univers\n5, boulevard Heurteloup\n37000 Tours\n\nhttps://www.rouillac.com/saf1000542\n\nATTENTION - NOUVELLE DATE\n\nEXPOSITIONS PUBLIQUES\nSamedi 12 février de 14h à 17h.\nDimanche 13 février de 10h à 12h\nLundi 14 février de 9h à 12h\n\nCONFÉRENCE\n"Ils découvrent des trésors", dédicace avec Diane Zorzi\nSamedi 12 février, Hôtel de l'Univers à Tours.\n\nEXPERT\nCabinet Jean VINCHON\npour les monnaies de collection n°360, 400 et 411 à 418\n77 rue de Richelieu, 75002 PARIS\nTél. 01 42 97 50 00\n\nCONTACT\nCourriel : rouillac@rouillac.com\nTél. : 02 54 80 24 24\n\nFRAIS DE VENTE 20% TTC\nFRAIS 10% HT pour les lingots 350 à 355\nFRAIS 12% HT du lot 350 au 382.\n\nConfrontation à la base de données du Art Loss Register\ndes lots dont l’estimation haute est égale ou supérieure à 1.500€.
LOCATION: Hôtel de l'Univers 5, boulevard Heurteloup 37000 Tours
BEGIN:VALARM
ACTION:DISPLAY
DESCRIPTION:VENTE ROUILLAC - OR, ARGENTERIE & ARTS DE LA TABLE
TRIGGER:-PT15M
END:VALARM
END:VEVENT
END:VCALENDAR