BEGIN:VCALENDAR
VERSION:2.0
PRODID:-//www.rouillac.com
X-WR-CALNAME:Rouillac
CALSCALE:GREGORIAN
BEGIN:VTIMEZONE
TZID:Europe/Paris
TZURL:http://tzurl.org/zoneinfo-outlook/Europe/Paris
X-LIC-LOCATION:Europe/Paris
BEGIN:DAYLIGHT
TZOFFSETFROM:+0100
TZOFFSETTO:+0200
TZNAME:CEST
DTSTART:19700329T020000
RRULE:FREQ=YEARLY;BYMONTH=3;BYDAY=-1SU
END:DAYLIGHT
BEGIN:STANDARD
TZOFFSETFROM:+0200
TZOFFSETTO:+0100
TZNAME:CET
DTSTART:19701025T030000
RRULE:FREQ=YEARLY;BYMONTH=10;BYDAY=-1SU
END:STANDARD
END:VTIMEZONE
BEGIN:VEVENT
DTSTAMP:20260421T001035Z
UID:20260421T001035Z-rouillac.com
DTSTART;TZID="Europe/Paris":20220213T140000Z
DTEND;TZID="Europe/Paris":20220213T150000Z
SUMMARY:VENTE ROUILLAC - BIJOUX & MONTRES
URL:https://www.rouillac.com/saf1000541
DESCRIPTION:BIJOUX & MONTRES\n\nHôtel de l'Univers\n5, boulevard Heurteloup\n37000 Tours\n\nhttps://www.rouillac.com/saf1000541\n\nATTENTION - NOUVELLE DATE\n\nEXPOSITIONS PUBLIQUES\nSamedi 12 février de 14h à 17h.\nDimanche 13 février de 10h à 12h\n\nCONFÉRENCE\n"Ils découvrent des trésors", dédicace avec Diane Zorzi\nSamedi 12 février, Hôtel de l'Univers à Tours.\n\nCONTACT\nCourriel : rouillac@rouillac.com\nTél. : 02 54 80 24 24\n\nEXPERTS\nCabinet PORTIER\npour les bijoux n°16, 41, 73, 74, 83, 90, 91, 101, 102, 103, 104, 132, 134, 135, 136, 139, 143, 144, 148, 150, 154, 155, 174, 175, 176, 177, 178, 193, 245, 263, 285.\n17, rue Drouot, 75009 Paris\nTél. 01 47 70 89 82\n\nFRAIS DE VENTE 20% TTC\n\nConfrontation à la base de données du Art Loss Register\ndes lots dont l’estimation haute est égale ou supérieure à 1.500€.
LOCATION: Hôtel de l'Univers 5, boulevard Heurteloup 37000 Tours
BEGIN:VALARM
ACTION:DISPLAY
DESCRIPTION:VENTE ROUILLAC - BIJOUX & MONTRES
TRIGGER:-PT15M
END:VALARM
END:VEVENT
END:VCALENDAR