BEGIN:VCALENDAR
VERSION:2.0
PRODID:-//www.rouillac.com
X-WR-CALNAME:Rouillac
CALSCALE:GREGORIAN
BEGIN:VTIMEZONE
TZID:Europe/Paris
TZURL:http://tzurl.org/zoneinfo-outlook/Europe/Paris
X-LIC-LOCATION:Europe/Paris
BEGIN:DAYLIGHT
TZOFFSETFROM:+0100
TZOFFSETTO:+0200
TZNAME:CEST
DTSTART:19700329T020000
RRULE:FREQ=YEARLY;BYMONTH=3;BYDAY=-1SU
END:DAYLIGHT
BEGIN:STANDARD
TZOFFSETFROM:+0200
TZOFFSETTO:+0100
TZNAME:CET
DTSTART:19701025T030000
RRULE:FREQ=YEARLY;BYMONTH=10;BYDAY=-1SU
END:STANDARD
END:VTIMEZONE
BEGIN:VEVENT
DTSTAMP:20260423T051843Z
UID:20260423T051843Z-rouillac.com
DTSTART;TZID="Europe/Paris":20210125T140000Z
DTEND;TZID="Europe/Paris":20210125T150000Z
SUMMARY:VENTE ROUILLAC - UNE CHARTREUSE À ARCACHON
URL:https://www.rouillac.com/saf1000517
DESCRIPTION:UNE CHARTREUSE À ARCACHON\n\nHôtel des Ventes\n2, rue Albert Einstein\n41100 Vendôme\n\nhttps://www.rouillac.com/saf1000517\n\nEXPOSITIONS PUBLIQUES\nVendredi 22 janvier de 10h à 12h30 et de 14h à 17h30.\nSamedi 23 janvier de 14h à 17h.\nDimanche 24 janvier de 10h à 12h.\nLundi 25 janvier de 10h à12h.\n\nCONFÉRENCES\nLes musées et le marché de l'art\nJeudi 21 janvier, au cinéma CGR de Tours.\n\nLes grands styles du mobilier\nSamedi 23 janvier, Hôtel des ventes de Vendôme.\n\nCONTACT\nCourriel : rouillac@rouillac.com\nTél. : 02 54 80 24 24 \nTél. : 02 47 61 22 22\n\nFRAIS DE VENTE 20% TTC\n\nConfrontation à la base de données du Art Loss Register \ndes lots dont l’estimation haute est égale ou supérieure à 1.500€.
LOCATION: Hôtel des Ventes 2, rue Albert Einstein 41100 Vendôme
BEGIN:VALARM
ACTION:DISPLAY
DESCRIPTION:VENTE ROUILLAC - UNE CHARTREUSE À ARCACHON
TRIGGER:-PT15M
END:VALARM
END:VEVENT
END:VCALENDAR