BEGIN:VCALENDAR
VERSION:2.0
PRODID:-//www.rouillac.com
X-WR-CALNAME:Rouillac
CALSCALE:GREGORIAN
BEGIN:VTIMEZONE
TZID:Europe/Paris
TZURL:http://tzurl.org/zoneinfo-outlook/Europe/Paris
X-LIC-LOCATION:Europe/Paris
BEGIN:DAYLIGHT
TZOFFSETFROM:+0100
TZOFFSETTO:+0200
TZNAME:CEST
DTSTART:19700329T020000
RRULE:FREQ=YEARLY;BYMONTH=3;BYDAY=-1SU
END:DAYLIGHT
BEGIN:STANDARD
TZOFFSETFROM:+0200
TZOFFSETTO:+0100
TZNAME:CET
DTSTART:19701025T030000
RRULE:FREQ=YEARLY;BYMONTH=10;BYDAY=-1SU
END:STANDARD
END:VTIMEZONE
BEGIN:VEVENT
DTSTAMP:20260420T124224Z
UID:20260420T124224Z-rouillac.com
DTSTART;TZID="Europe/Paris":20191030T100000Z
DTEND;TZID="Europe/Paris":20191118T140000Z
SUMMARY:VENTE ROUILLAC - ATELIER LAGRUE
URL:https://www.rouillac.com/saf1000487
DESCRIPTION:ATELIER LAGRUE\n\nHôtel des ventes\nrue Albert Einstein\n41100 Vendôme\n\nhttps://www.rouillac.com/saf1000487\n\nVENTE ONLINE SUR ROUILLAC.COM\nClôture des enchères Lundi 18 novembre à 14h\n\nCONDITIONS PARTICULIÈRES DES VENTES EN LIGNE\nLa vente se déroule uniquement par voie électronique sur le site rouillac.com. Tout utilisateur dont l'inscription a été préalablement validée par la maison de vente Rouillac peut donc enchérir à distance jusqu'à la fin de la vente.\n\nÀ l'issue de la période ouverte pour enchérir, si une enchère a été émise dans les cinq dernières minutes, une période additionnelle de cinq minutes est ajoutée pour permettre à tout le monde de surenchérir.\n\nMise à prix 100 €\n\nEXPOSITIONS PRIVÉES\nSur rendez-vous.\n\nCONTACT\nCourriel : rouillac@rouillac.com\n Tél. : 02 54 80 24 24\n\nPAIEMENT COMPTANT - FRAIS 20% TTC
LOCATION: Hôtel des ventes rue Albert Einstein 41100 Vendôme
BEGIN:VALARM
ACTION:DISPLAY
DESCRIPTION:VENTE ROUILLAC - ATELIER LAGRUE
TRIGGER:-PT15M
END:VALARM
END:VEVENT
END:VCALENDAR