BEGIN:VCALENDAR
VERSION:2.0
PRODID:-//www.rouillac.com
X-WR-CALNAME:Rouillac
CALSCALE:GREGORIAN
BEGIN:VTIMEZONE
TZID:Europe/Paris
TZURL:http://tzurl.org/zoneinfo-outlook/Europe/Paris
X-LIC-LOCATION:Europe/Paris
BEGIN:DAYLIGHT
TZOFFSETFROM:+0100
TZOFFSETTO:+0200
TZNAME:CEST
DTSTART:19700329T020000
RRULE:FREQ=YEARLY;BYMONTH=3;BYDAY=-1SU
END:DAYLIGHT
BEGIN:STANDARD
TZOFFSETFROM:+0200
TZOFFSETTO:+0100
TZNAME:CET
DTSTART:19701025T030000
RRULE:FREQ=YEARLY;BYMONTH=10;BYDAY=-1SU
END:STANDARD
END:VTIMEZONE
BEGIN:VEVENT
DTSTAMP:20260423T100742Z
UID:20260423T100742Z-rouillac.com
DTSTART;TZID="Europe/Paris":20140407T110000Z
DTEND;TZID="Europe/Paris":20140407T120000Z
SUMMARY:VENTE ROUILLAC - ARGENTERIE et ARTS DE LA TABLE
URL:https://www.rouillac.com/saf1000318
DESCRIPTION:ARGENTERIE et ARTS DE LA TABLE\n\nHôtel de l'Univers\n5, boulevard Heurteloup\n37000 Tours\n\nhttps://www.rouillac.com/saf1000318\n\nProvenant notamment de la collection personnelle des arts de la table de Monsieur Jack Magord, propriétaire du restaurant Charles Barrier à Tours, autrefois exposée dans les vitrines de cet établissement.\n\nEXPOSITIONS PUBLIQUES\nDimanche 6 avril de 15h à 17h.\nLundi 7 avril de 9h30 à 12h.\n\nCONFÉRENCE \n"Les poinçons de l'orfèvrerie française"\ndimanche 6 avril, 16h\n\nCONTACT\nCourriel : rouillac@rouillac.com\nTél.Tours : 02 47 61 22 22 \nTél. Paris : 01 45 44 34 34 \nFax. : 02 54 77 61 10
LOCATION: Hôtel de l'Univers 5, boulevard Heurteloup 37000 Tours
BEGIN:VALARM
ACTION:DISPLAY
DESCRIPTION:VENTE ROUILLAC - ARGENTERIE et ARTS DE LA TABLE
TRIGGER:-PT15M
END:VALARM
END:VEVENT
END:VCALENDAR