BEGIN:VCALENDAR
VERSION:2.0
PRODID:-//www.rouillac.com
X-WR-CALNAME:Rouillac
CALSCALE:GREGORIAN
BEGIN:VTIMEZONE
TZID:Europe/Paris
TZURL:http://tzurl.org/zoneinfo-outlook/Europe/Paris
X-LIC-LOCATION:Europe/Paris
BEGIN:DAYLIGHT
TZOFFSETFROM:+0100
TZOFFSETTO:+0200
TZNAME:CEST
DTSTART:19700329T020000
RRULE:FREQ=YEARLY;BYMONTH=3;BYDAY=-1SU
END:DAYLIGHT
BEGIN:STANDARD
TZOFFSETFROM:+0200
TZOFFSETTO:+0100
TZNAME:CET
DTSTART:19701025T030000
RRULE:FREQ=YEARLY;BYMONTH=10;BYDAY=-1SU
END:STANDARD
END:VTIMEZONE
BEGIN:VEVENT
DTSTAMP:20260423T113109Z
UID:20260423T113109Z-rouillac.com
DTSTART;TZID="Europe/Paris":20140210T145000Z
DTEND;TZID="Europe/Paris":20140210T155000Z
SUMMARY:VENTE ROUILLAC - CAVE DU MOULIN FLEURI - GRANDS VINS
URL:https://www.rouillac.com/saf1000312
DESCRIPTION:CAVE DU MOULIN FLEURI - GRANDS VINS\n\nRestaurant le Moulin Fleuri\n"Le Moulin Fleuri"\n37250 Veigné\n\nhttps://www.rouillac.com/saf1000312\n\nCompte tenu de l'importance des volumes de vin du restaurant le "Moulin Fleuri" à Veigné, cet établissement a sélectionné 2.000 bouteilles parmi les meilleurs cru de sa cave pour la renouveler.\n\nLa vente a lieu sur place et d'autres bouteilles appartenant à divers amateurs seront également proposées aux amateurs. Merci de nous contacter pour inclure des lots.\n\nEXPOSITION - Sur Place\nLundi 10 février de 14h00 à 15h.\n\nCONTACT\nCourriel : rouillac@rouillac.com\nTél.Tours : 02 47 61 22 22 \nTél. Paris : 01 45 44 34 34 \nFax. : 02 54 77 61 10 \n\nFRAIS DE VENTE EN SUS 20% TTC
LOCATION: Restaurant le Moulin Fleuri "Le Moulin Fleuri" 37250 Veigné
BEGIN:VALARM
ACTION:DISPLAY
DESCRIPTION:VENTE ROUILLAC - CAVE DU MOULIN FLEURI - GRANDS VINS
TRIGGER:-PT15M
END:VALARM
END:VEVENT
END:VCALENDAR