BEGIN:VCALENDAR
VERSION:2.0
PRODID:-//www.rouillac.com
X-WR-CALNAME:Rouillac
CALSCALE:GREGORIAN
BEGIN:VTIMEZONE
TZID:Europe/Paris
TZURL:http://tzurl.org/zoneinfo-outlook/Europe/Paris
X-LIC-LOCATION:Europe/Paris
BEGIN:DAYLIGHT
TZOFFSETFROM:+0100
TZOFFSETTO:+0200
TZNAME:CEST
DTSTART:19700329T020000
RRULE:FREQ=YEARLY;BYMONTH=3;BYDAY=-1SU
END:DAYLIGHT
BEGIN:STANDARD
TZOFFSETFROM:+0200
TZOFFSETTO:+0100
TZNAME:CET
DTSTART:19701025T030000
RRULE:FREQ=YEARLY;BYMONTH=10;BYDAY=-1SU
END:STANDARD
END:VTIMEZONE
BEGIN:VEVENT
DTSTAMP:20260423T092647Z
UID:20260423T092647Z-rouillac.com
DTSTART;TZID="Europe/Paris":20131013T160000Z
DTEND;TZID="Europe/Paris":20131013T170000Z
SUMMARY:VENTE ROUILLAC - 50 PHOTOS EXCLUSIVES POUR LE 50ème ANNIVERSAIRE DE LA DISPARITION D’ÉDITH PIAF
URL:https://www.rouillac.com/saf1000303
DESCRIPTION:50 PHOTOS EXCLUSIVES POUR LE 50ème ANNIVERSAIRE DE LA DISPARITION D’ÉDITH PIAF\n\nHôtel du Grand Commandement\n12 bis rue des Minimes\n37000 Tours\n\nhttps://www.rouillac.com/saf1000303\n\nEXPOSITIONS à Tours\nSamedi 12 octobre de  de 14h à 18h.\nDimanche 13 octobre 14h à 16h.\n\nCONFÉRENCE - DÉDICACE\npar Hugues Vassal « Édith Piaf, une vie en noir et blanc »\nsamedi 12 octobre 16 heures.\n\nCONTACT\nCourriel : rouillac@rouillac.com\nTél. Tours : 02 47 61 22 22\nTél. Paris : 01 45 44 34 34 \nFax. : 02 54 77 61 10\n\nFRAIS DE VENTE EN SUS 20 % TTC
LOCATION: Hôtel du Grand Commandement 12 bis rue des Minimes 37000 Tours
BEGIN:VALARM
ACTION:DISPLAY
DESCRIPTION:VENTE ROUILLAC - 50 PHOTOS EXCLUSIVES POUR LE 50ème ANNIVERSAIRE DE LA DISPARITION D’ÉDITH PIAF
TRIGGER:-PT15M
END:VALARM
END:VEVENT
END:VCALENDAR