BEGIN:VCALENDAR
VERSION:2.0
PRODID:-//www.rouillac.com
X-WR-CALNAME:Rouillac
CALSCALE:GREGORIAN
BEGIN:VTIMEZONE
TZID:Europe/Paris
TZURL:http://tzurl.org/zoneinfo-outlook/Europe/Paris
X-LIC-LOCATION:Europe/Paris
BEGIN:DAYLIGHT
TZOFFSETFROM:+0100
TZOFFSETTO:+0200
TZNAME:CEST
DTSTART:19700329T020000
RRULE:FREQ=YEARLY;BYMONTH=3;BYDAY=-1SU
END:DAYLIGHT
BEGIN:STANDARD
TZOFFSETFROM:+0200
TZOFFSETTO:+0100
TZNAME:CET
DTSTART:19701025T030000
RRULE:FREQ=YEARLY;BYMONTH=10;BYDAY=-1SU
END:STANDARD
END:VTIMEZONE
BEGIN:VEVENT
DTSTAMP:20260424T180552Z
UID:20260424T180552Z-rouillac.com
DTSTART;TZID="Europe/Paris":20130412T150000Z
DTEND;TZID="Europe/Paris":20130412T160000Z
SUMMARY:VENTE ROUILLAC - LES MACHINES SATELLITES de PIERRE COMTE
URL:https://www.rouillac.com/saf1000299
DESCRIPTION:LES MACHINES SATELLITES de PIERRE COMTE\n\nExposition en nos bureaux\n22, boulevard Béranger\n37000 Tours\n\nhttps://www.rouillac.com/saf1000299\n\nEXPOSITION EN NOS BUREAUX du 6 mars au 12 avril\n\nLes mercredi et vendredi de 9 à 12 heures et de 14 à 17 heures.
LOCATION: Exposition en nos bureaux 22, boulevard Béranger 37000 Tours
BEGIN:VALARM
ACTION:DISPLAY
DESCRIPTION:VENTE ROUILLAC - LES MACHINES SATELLITES de PIERRE COMTE
TRIGGER:-PT15M
END:VALARM
END:VEVENT
END:VCALENDAR