BEGIN:VCALENDAR
VERSION:2.0
PRODID:-//www.rouillac.com
X-WR-CALNAME:Rouillac
CALSCALE:GREGORIAN
BEGIN:VTIMEZONE
TZID:Europe/Paris
TZURL:http://tzurl.org/zoneinfo-outlook/Europe/Paris
X-LIC-LOCATION:Europe/Paris
BEGIN:DAYLIGHT
TZOFFSETFROM:+0100
TZOFFSETTO:+0200
TZNAME:CEST
DTSTART:19700329T020000
RRULE:FREQ=YEARLY;BYMONTH=3;BYDAY=-1SU
END:DAYLIGHT
BEGIN:STANDARD
TZOFFSETFROM:+0200
TZOFFSETTO:+0100
TZNAME:CET
DTSTART:19701025T030000
RRULE:FREQ=YEARLY;BYMONTH=10;BYDAY=-1SU
END:STANDARD
END:VTIMEZONE
BEGIN:VEVENT
DTSTAMP:20260423T180356Z
UID:20260423T180356Z-rouillac.com
DTSTART;TZID="Europe/Paris":20100501T160000Z
DTEND;TZID="Europe/Paris":20100501T170000Z
SUMMARY:VENTE ROUILLAC - POUR L'ENRICHISSEMENT DES COLLECTIONS DE CHAMBORD
URL:https://www.rouillac.com/saf1000200
DESCRIPTION:POUR L'ENRICHISSEMENT DES COLLECTIONS DE CHAMBORD\n\nChâteau de Chambord\n41250 Chambord\n\nhttps://www.rouillac.com/saf1000200\n\nExceptionnelle vente aux enchères à l'occasion de la 14e brocante de Chambord. \n\nCollectionneurs et antiquaires sont invités à offrir une oeuvre pour cette vente, dont le produit sera intégralement versé au budget d'acquisition et de restauration des oeuvres conservées au Château de Chambord. \n\nUn reçu fiscal sera délivré aux vendeurs et aux acheteurs.\n\nPlus de renseignements sur le site internet du domaine de Chambord&nbsp;:\nwww.chambord.org
LOCATION: Château de Chambord 41250 Chambord
BEGIN:VALARM
ACTION:DISPLAY
DESCRIPTION:VENTE ROUILLAC - POUR L'ENRICHISSEMENT DES COLLECTIONS DE CHAMBORD
TRIGGER:-PT15M
END:VALARM
END:VEVENT
END:VCALENDAR