BEGIN:VCALENDAR
VERSION:2.0
PRODID:-//www.rouillac.com
X-WR-CALNAME:Rouillac
CALSCALE:GREGORIAN
BEGIN:VTIMEZONE
TZID:Europe/Paris
TZURL:http://tzurl.org/zoneinfo-outlook/Europe/Paris
X-LIC-LOCATION:Europe/Paris
BEGIN:DAYLIGHT
TZOFFSETFROM:+0100
TZOFFSETTO:+0200
TZNAME:CEST
DTSTART:19700329T020000
RRULE:FREQ=YEARLY;BYMONTH=3;BYDAY=-1SU
END:DAYLIGHT
BEGIN:STANDARD
TZOFFSETFROM:+0200
TZOFFSETTO:+0100
TZNAME:CET
DTSTART:19701025T030000
RRULE:FREQ=YEARLY;BYMONTH=10;BYDAY=-1SU
END:STANDARD
END:VTIMEZONE
BEGIN:VEVENT
DTSTAMP:20260421T053944Z
UID:20260421T053944Z-rouillac.com
DTSTART;TZID="Europe/Paris":20100125T140000Z
DTEND;TZID="Europe/Paris":20100125T150000Z
SUMMARY:VENTE ROUILLAC - LES ARTS DE LA TABLE - ARGENTERIE - MéTAL ARGENTé
URL:https://www.rouillac.com/saf1000186
DESCRIPTION:LES ARTS DE LA TABLE - ARGENTERIE - MéTAL ARGENTé\n\nHôtel des ventes\nrue Albert Einstein\n41100 Vendôme\n\nhttps://www.rouillac.com/saf1000186\n\nEXPOSITIONS \nVendredi 22 janvier de 14h à 17h \nSamedi 23 janvier de 10h à12h\nLundi 25 janvier de 10h à 12h.\n\nCONFÉRENCE\n"l'Art de recevoir un Art de vivre"\nSamedi 23 janvier, 16h à Vendôme\n\nCONTACT\nCourriel : vendome@rouillac.com\nTél. Vendôme : 02 54 80 24 24\nTél. Paris : 01 45 44 34 34\nFax Vendôme : 02 54 77 61 10\n\nFRAIS DE VENTE EN SUS 20% TTC
LOCATION: Hôtel des ventes rue Albert Einstein 41100 Vendôme
BEGIN:VALARM
ACTION:DISPLAY
DESCRIPTION:VENTE ROUILLAC - LES ARTS DE LA TABLE - ARGENTERIE - MéTAL ARGENTé
TRIGGER:-PT15M
END:VALARM
END:VEVENT
END:VCALENDAR