BEGIN:VCALENDAR
VERSION:2.0
PRODID:-//www.rouillac.com
X-WR-CALNAME:Rouillac
CALSCALE:GREGORIAN
BEGIN:VTIMEZONE
TZID:Europe/Paris
TZURL:http://tzurl.org/zoneinfo-outlook/Europe/Paris
X-LIC-LOCATION:Europe/Paris
BEGIN:DAYLIGHT
TZOFFSETFROM:+0100
TZOFFSETTO:+0200
TZNAME:CEST
DTSTART:19700329T020000
RRULE:FREQ=YEARLY;BYMONTH=3;BYDAY=-1SU
END:DAYLIGHT
BEGIN:STANDARD
TZOFFSETFROM:+0200
TZOFFSETTO:+0100
TZNAME:CET
DTSTART:19701025T030000
RRULE:FREQ=YEARLY;BYMONTH=10;BYDAY=-1SU
END:STANDARD
END:VTIMEZONE
BEGIN:VEVENT
DTSTAMP:20260420T165416Z
UID:20260420T165416Z-rouillac.com
DTSTART;TZID="Europe/Paris":20090404T140000Z
DTEND;TZID="Europe/Paris":20090404T150000Z
SUMMARY:VENTE ROUILLAC - Afrique - Amérindien - Océanie - Asie - Antiques - Préhistoire
URL:https://www.rouillac.com/saf1000175
DESCRIPTION:Afrique - Amérindien - Océanie - Asie - Antiques - Préhistoire\n\nHôtel des Ventes\nrue Albert Einstein\n41100 Vendôme\n\nhttps://www.rouillac.com/saf1000175\n\nCollection de feu Michel Jeuillard et à divers.\n\nEXPERT\nM. Jean Roudillon\nTél.: 01 42 22 85 97\n\nEXPOSITIONS\nVendredi 3 avril de 10h à 12h et de 14h à 17h\nSamedi 4 avril de 10h à 12h. \n\nPAIEMENT COMPTANT - FRAIS 20%
LOCATION: Hôtel des Ventes rue Albert Einstein 41100 Vendôme
BEGIN:VALARM
ACTION:DISPLAY
DESCRIPTION:VENTE ROUILLAC - Afrique - Amérindien - Océanie - Asie - Antiques - Préhistoire
TRIGGER:-PT15M
END:VALARM
END:VEVENT
END:VCALENDAR