BEGIN:VCALENDAR
VERSION:2.0
PRODID:-//www.rouillac.com
X-WR-CALNAME:Rouillac
CALSCALE:GREGORIAN
BEGIN:VTIMEZONE
TZID:Europe/Paris
TZURL:http://tzurl.org/zoneinfo-outlook/Europe/Paris
X-LIC-LOCATION:Europe/Paris
BEGIN:DAYLIGHT
TZOFFSETFROM:+0100
TZOFFSETTO:+0200
TZNAME:CEST
DTSTART:19700329T020000
RRULE:FREQ=YEARLY;BYMONTH=3;BYDAY=-1SU
END:DAYLIGHT
BEGIN:STANDARD
TZOFFSETFROM:+0200
TZOFFSETTO:+0100
TZNAME:CET
DTSTART:19701025T030000
RRULE:FREQ=YEARLY;BYMONTH=10;BYDAY=-1SU
END:STANDARD
END:VTIMEZONE
BEGIN:VEVENT
DTSTAMP:20260423T044753Z
UID:20260423T044753Z-rouillac.com
DTSTART;TZID="Europe/Paris":20250627T140000Z
DTEND;TZID="Europe/Paris":20250627T150000Z
SUMMARY:ROUILLAC AUCTIONS - CARTOONS & SATIRICAL NEWSPAPERS
URL:https://www.rouillac.com/saf1000626
DESCRIPTION:CARTOONS & SATIRICAL NEWSPAPERS\n\nHôtel des ventes\nrue Albert Einstein\n41100 Vendôme\n\nhttps://www.rouillac.com/saf1000626\n\nTreasures of Caricature and Satirical Press – Collection Guy Dussimon\nNearly 430 issues of newspapers and original drawings, covering 160 years of French history, will be dispersed on June 26 and 27, 2025.\n\nPUBLIC EXPOSITIONS\nTuesday, June 24th 10am to 12pm and from 2pm to 5pm.\nWednesday, June 25th 10am to 12pm and from 2pm to 5pm.\nThursday, June 26th 10am to 12pm.\nFriday, June 27th 10am to 12pm.\n\n\n\nCONTACT\nEmail: rouillac@rouillac.com\nTel.: +33 (0)2 54 80 24 24\n\nBUYER'S PREMIUM: 24% VAT incl.
LOCATION: Hôtel des ventes rue Albert Einstein 41100 Vendôme
BEGIN:VALARM
ACTION:DISPLAY
DESCRIPTION:ROUILLAC AUCTIONS - CARTOONS & SATIRICAL NEWSPAPERS
TRIGGER:-PT15M
END:VALARM
END:VEVENT
END:VCALENDAR