BEGIN:VCALENDAR
VERSION:2.0
PRODID:-//www.rouillac.com
X-WR-CALNAME:Rouillac
CALSCALE:GREGORIAN
BEGIN:VTIMEZONE
TZID:Europe/Paris
TZURL:http://tzurl.org/zoneinfo-outlook/Europe/Paris
X-LIC-LOCATION:Europe/Paris
BEGIN:DAYLIGHT
TZOFFSETFROM:+0100
TZOFFSETTO:+0200
TZNAME:CEST
DTSTART:19700329T020000
RRULE:FREQ=YEARLY;BYMONTH=3;BYDAY=-1SU
END:DAYLIGHT
BEGIN:STANDARD
TZOFFSETFROM:+0200
TZOFFSETTO:+0100
TZNAME:CET
DTSTART:19701025T030000
RRULE:FREQ=YEARLY;BYMONTH=10;BYDAY=-1SU
END:STANDARD
END:VTIMEZONE
BEGIN:VEVENT
DTSTAMP:20260424T041420Z
UID:20260424T041420Z-rouillac.com
DTSTART;TZID="Europe/Paris":20250426T140000Z
DTEND;TZID="Europe/Paris":20250426T150000Z
SUMMARY:ROUILLAC AUCTIONS - VEHICULES AND SPARE PARTS
URL:https://www.rouillac.com/saf1000625
DESCRIPTION:VEHICULES AND SPARE PARTS\n\nVente sur place\n3, allée du Bois de l'Orme \n41100 Saint-Ouen\n\nhttps://www.rouillac.com/saf1000625\n\nPUBLIC VIEWING\nFriday, April 25 by appointment only\nSaturday, April 26 10am-12pm.\n\nCONTACT\nEmail: rouillac@rouillac.com\nTel.: +33 (0)2 54 80 24 24\n\nBUYER'S PREMIMU/ 24% VAT incl.\n\nONLINE AUCTION EXCLUSIVELY ON INTERENCHERES\nInterenchères Extra Fee: 3,6%
LOCATION: Vente sur place 3, allée du Bois de l'Orme  41100 Saint-Ouen
BEGIN:VALARM
ACTION:DISPLAY
DESCRIPTION:ROUILLAC AUCTIONS - VEHICULES AND SPARE PARTS
TRIGGER:-PT15M
END:VALARM
END:VEVENT
END:VCALENDAR