BEGIN:VCALENDAR
VERSION:2.0
PRODID:-//www.rouillac.com
X-WR-CALNAME:Rouillac
CALSCALE:GREGORIAN
BEGIN:VTIMEZONE
TZID:Europe/Paris
TZURL:http://tzurl.org/zoneinfo-outlook/Europe/Paris
X-LIC-LOCATION:Europe/Paris
BEGIN:DAYLIGHT
TZOFFSETFROM:+0100
TZOFFSETTO:+0200
TZNAME:CEST
DTSTART:19700329T020000
RRULE:FREQ=YEARLY;BYMONTH=3;BYDAY=-1SU
END:DAYLIGHT
BEGIN:STANDARD
TZOFFSETFROM:+0200
TZOFFSETTO:+0100
TZNAME:CET
DTSTART:19701025T030000
RRULE:FREQ=YEARLY;BYMONTH=10;BYDAY=-1SU
END:STANDARD
END:VTIMEZONE
BEGIN:VEVENT
DTSTAMP:20260424T041420Z
UID:20260424T041420Z-rouillac.com
DTSTART;TZID="Europe/Paris":20250404T140000Z
DTEND;TZID="Europe/Paris":20250404T150000Z
SUMMARY:ROUILLAC AUCTIONS - FROM THE QUENAULT STUDIO
URL:https://www.rouillac.com/saf1000622
DESCRIPTION:FROM THE QUENAULT STUDIO\n\nSalle des Fêtes\nPlace Saint-Martin\n37220 Rilly-sur-Vienne\n\nhttps://www.rouillac.com/saf1000622\n\nChristian Quenault\nA Life between Art and Industry.\n\nPUBLIC EXHIBITION\nThursday, April 3: 10am-12pm and 2pm-5pm.\nFriday, April 4: 9:30am-12pm.\n\nCONTACT\nEmail: rouillac@rouillac.com\nTel.: 02 54 80 24 24\n\nBUYER'S PREMIUM: 24% VAT incl.\n\nCOLLECTION AND TRANSPORTATION\nWorks must be collected by appointment only from the premises, between April 4 and 25, 2025.\nThe BBTV Shipping Company, 20 Chauvin, 37120 CHAVEIGNES (France) will be the exclusive shipping company for this auction.\nPlease do not hesitate to contact Mr. Bertheau at +33 (0)6 28 05 51 22 or by email to: bb.transport.vente@gmail.com with your quotation requests.
LOCATION: Salle des Fêtes Place Saint-Martin 37220 Rilly-sur-Vienne
BEGIN:VALARM
ACTION:DISPLAY
DESCRIPTION:ROUILLAC AUCTIONS - FROM THE QUENAULT STUDIO
TRIGGER:-PT15M
END:VALARM
END:VEVENT
END:VCALENDAR