BEGIN:VCALENDAR
VERSION:2.0
PRODID:-//www.rouillac.com
X-WR-CALNAME:Rouillac
CALSCALE:GREGORIAN
BEGIN:VTIMEZONE
TZID:Europe/Paris
TZURL:http://tzurl.org/zoneinfo-outlook/Europe/Paris
X-LIC-LOCATION:Europe/Paris
BEGIN:DAYLIGHT
TZOFFSETFROM:+0100
TZOFFSETTO:+0200
TZNAME:CEST
DTSTART:19700329T020000
RRULE:FREQ=YEARLY;BYMONTH=3;BYDAY=-1SU
END:DAYLIGHT
BEGIN:STANDARD
TZOFFSETFROM:+0200
TZOFFSETTO:+0100
TZNAME:CET
DTSTART:19701025T030000
RRULE:FREQ=YEARLY;BYMONTH=10;BYDAY=-1SU
END:STANDARD
END:VTIMEZONE
BEGIN:VEVENT
DTSTAMP:20260424T041420Z
UID:20260424T041420Z-rouillac.com
DTSTART;TZID="Europe/Paris":20250227T143000Z
DTEND;TZID="Europe/Paris":20250227T153000Z
SUMMARY:ROUILLAC AUCTIONS - PHOTOGRAPHIC EQUIPMENT
URL:https://www.rouillac.com/saf1000617
DESCRIPTION:PHOTOGRAPHIC EQUIPMENT\n\nHôtel des ventes\nrue Albert Einstein\n41100 Vendôme\n\nhttps://www.rouillac.com/saf1000617\n\nPUBLIC VIEWING\nWednesday, Feb. 26: 10am-12pm and 2-5pm\nThursday, Feb. 27: 10am-12pm.\n\nCONTACT\nEmail: rouillac@rouillac.com\nTel.: +33 (0)2 54 80 24 24\n\nBUYER'S PREMIUM: 24% VAT incl.
LOCATION: Hôtel des ventes rue Albert Einstein 41100 Vendôme
BEGIN:VALARM
ACTION:DISPLAY
DESCRIPTION:ROUILLAC AUCTIONS - PHOTOGRAPHIC EQUIPMENT
TRIGGER:-PT15M
END:VALARM
END:VEVENT
END:VCALENDAR